BEGIN:VCALENDAR
VERSION:2.0
PRODID:-//Brad Golden - ECPv6.15.20//NONSGML v1.0//EN
CALSCALE:GREGORIAN
METHOD:PUBLISH
X-WR-CALNAME:Brad Golden
X-ORIGINAL-URL:https://bradgolden.com
X-WR-CALDESC:Events for Brad Golden
REFRESH-INTERVAL;VALUE=DURATION:PT1H
X-Robots-Tag:noindex
X-PUBLISHED-TTL:PT1H
BEGIN:VTIMEZONE
TZID:America/Los_Angeles
BEGIN:DAYLIGHT
TZOFFSETFROM:-0800
TZOFFSETTO:-0700
TZNAME:PDT
DTSTART:20250309T100000
END:DAYLIGHT
BEGIN:STANDARD
TZOFFSETFROM:-0700
TZOFFSETTO:-0800
TZNAME:PST
DTSTART:20251102T090000
END:STANDARD
BEGIN:DAYLIGHT
TZOFFSETFROM:-0800
TZOFFSETTO:-0700
TZNAME:PDT
DTSTART:20260308T100000
END:DAYLIGHT
BEGIN:STANDARD
TZOFFSETFROM:-0700
TZOFFSETTO:-0800
TZNAME:PST
DTSTART:20261101T090000
END:STANDARD
BEGIN:DAYLIGHT
TZOFFSETFROM:-0800
TZOFFSETTO:-0700
TZNAME:PDT
DTSTART:20270314T100000
END:DAYLIGHT
BEGIN:STANDARD
TZOFFSETFROM:-0700
TZOFFSETTO:-0800
TZNAME:PST
DTSTART:20271107T090000
END:STANDARD
END:VTIMEZONE
BEGIN:VEVENT
DTSTART;TZID=America/Los_Angeles:20260502T123000
DTEND;TZID=America/Los_Angeles:20260502T153000
DTSTAMP:20260419T181600
CREATED:20260311T172158Z
LAST-MODIFIED:20260418T222002Z
UID:9443-1777725000-1777735800@bradgolden.com
SUMMARY:SILVER ALCHEMY:JEWELRY FROM PRECIOUS METAL CLAY
DESCRIPTION:INCLUDES $60 IN SILVER CLAY\nIn this hands-on beginner workshop\, you’ll learn how to create your own custom jewelry using real silver—no experience required. \nWe’ll begin by exploring this fascinating medium as you mold and shape your own unique jewelry design. After initial shaping\, the class will take a short break while your piece dries in a small oven. Then\, you’ll learn how to torch-fire your piece\, transforming the clay into solid silver right before your eyes! In the final stage\, you’ll sand\, file\, and polish your piece to a brilliant shine—ready to wear and enjoy. \nAll tools\, materials\, colored CZ stones\, Silver Clay and safety equipment are provided. If you make a pendant\, necklace chains will be available for purchase at the end of class for $20 (or feel free to bring your own). Black waxed cotton cord for necklaces and earring hooks will also be provided. \nWhat You’ll Learn \nDiscover how easy—and fun—it is to turn silver clay into real fine silver jewelry. You’ll learn how to: \n\nShape and texture your own silver jewelry\nTorch-fire your piece to transform it into solid silver\nSand\, file\, and polish it to a professional finish\nPick up tips and tricks to keep creating at home\n\nSplit your registration into 4 interest-free payments!\nTIP: Would you like to spread your registration fee over 4 interest-free payments? Select Afterpay or Klarna in Popular Payment Methods at Checkout and you’ll be able to split your class fee into 4 interest-free payments. Simple\, secure\, and stress-free.
URL:https://bradgolden.com/workshops/silver-alchemyjewelry-from-precious-metal-clay/
LOCATION:Brad Golden Art Academy\, 4475 Traffic Way\, Atascadero\, CA\, 934=22\, United States
CATEGORIES:Silver Clay Jewelry
ATTACH;FMTTYPE=image/webp:https://bradgolden.com/wp-content/uploads/2026/02/Silver-Clay-copy.webp
ORGANIZER;CN="Brad Golden":MAILTO:brad@bradgolden.com
END:VEVENT
BEGIN:VEVENT
DTSTART;TZID=America/Los_Angeles:20260515T173000
DTEND;TZID=America/Los_Angeles:20260515T203000
DTSTAMP:20260419T181600
CREATED:20260311T172730Z
LAST-MODIFIED:20260418T221915Z
UID:9449-1778866200-1778877000@bradgolden.com
SUMMARY:THE MAGIC OF JEWELRY ENAMELING
DESCRIPTION:EARLY BIRD SPECIAL FOR FIRST 6 SEATS: $125 [normally $175]\nCreate your own colorful enamel jewelry!\nIn this 3-hour beginner-friendly workshop\, you’ll learn how to create a finished pendants and earrings ready to wear when you leave! \n✔ No experience required✔ All materials included✔ Small group instruction \n📍 Studios on the Park — Paso Robles⏱ 3 hours \nReserve your seat now — workshops often sell out!\nEnameling is a fun\, approachable way to add bold color and glass-like shine to metal jewelry — and in this hands-on class\, you’ll get to experience the magic of it for yourself! You’ll learn how powdered enamel transforms into a smooth\, vibrant surface right before your eyes! \nThis workshop is designed for curious beginners as well as makers who want to expand their creative toolbox. No prior enamel or jewelry-making experience is required — just a willingness to experiment\, play\, and learn something new in a relaxed\, supportive environment. \n\n\n\n\n\n\n\n\n\nWhat We’ll Do\nOver the course of the class\, you’ll: \n\nLearn what enamel is and how it works on metal\nApply enamel and watch it transform as it fires\nExplore color possibilities and surface effects\nCreate finished enamel jewelry components to take home\n\nYou’ll be working with quality metal\, enamel\, and tools — everything is provided. \n\nYour Experience\nThis workshop is about discovery\, creativity\, and building confidence. \nDuring our time together you will: \n\nBe guided step-by-step through the process\nGet individual help and encouragement\nEnjoy a welcoming studio atmosphere\nLeave with colorful enamel pieces you made yourself\n\nIf you’ve ever wanted to bring more life and personality into your jewelry\, this is a fantastic way to start!\nPLEASE NOTE: The earrings shown are representative examples of techniques taught in class. Projects may vary depending on materials availability and student preferences. \n\nREGISTER TODAY!\nSpace is limited to keep the experience personal and hands-on. Come try something new\, light up a torch\, and watch the magic happen! \nTIP: Would you like to spread your registration fee over 4 interest-free payments? Select Afterpay or Klarna in Popular Payment Methods at Checkout and you’ll be able to split your class fee into 4 interest-free payments. Simple\, secure\, and stress-free.
URL:https://bradgolden.com/workshops/the-magic-of-jewelry-enameling-2/
LOCATION:Brad Golden Art Academy\, 4475 Traffic Way\, Atascadero\, CA\, 934=22\, United States
CATEGORIES:ENAMELING,NEWLY ADDED!
ATTACH;FMTTYPE=image/jpeg:https://bradgolden.com/wp-content/uploads/2026/01/Orange-Earrings.jpg
ORGANIZER;CN="Brad Golden":MAILTO:brad@bradgolden.com
END:VEVENT
BEGIN:VEVENT
DTSTART;TZID=America/Los_Angeles:20260516T123000
DTEND;TZID=America/Los_Angeles:20260516T153000
DTSTAMP:20260419T181600
CREATED:20260311T173002Z
LAST-MODIFIED:20260418T221836Z
UID:9452-1778934600-1778945400@bradgolden.com
SUMMARY:SILVER SOLDERING AND BEZEL RING
DESCRIPTION:EARLY BIRD SPECIAL FOR FIRST 6 SEATS: $125 [normally $175]\nBezel-Set Ring Workshop: Soldering & Stone Setting Fundamentals \nIn this hands-on workshop\, you’ll learn the essential techniques of silversmithing by creating a sterling silver ring. This design allows us to focus on core soldering skills. \n \nThis class is ideal for beginners or anyone looking to strengthen their soldering and bezel-setting fundamentals in a supportive\, studio environment. Each student will leave with a finished sterling silver ring and the skills to apply these techniques to future designs. \nNo prior metalsmithing experience required. \nSplit your registration into 4 interest-free payments!\nTIP: Would you like to spread your registration fee over 4 interest-free payments? Select Afterpay or Klarna in Popular Payment Methods at Checkout and you’ll be able to split your class fee into 4 interest-free payments. Simple\, secure\, and stress-free.
URL:https://bradgolden.com/workshops/silver-soldering-and-bezel-ring-2/
LOCATION:Brad Golden Art Academy\, 4475 Traffic Way\, Atascadero\, CA\, 934=22\, United States
CATEGORIES:Silver Soldering
ATTACH;FMTTYPE=image/webp:https://bradgolden.com/wp-content/uploads/2026/03/Cubic-Zirconia-Ring.webp
ORGANIZER;CN="Brad Golden":MAILTO:brad@bradgolden.com
END:VEVENT
BEGIN:VEVENT
DTSTART;TZID=America/Los_Angeles:20260522T173000
DTEND;TZID=America/Los_Angeles:20260522T203000
DTSTAMP:20260419T181600
CREATED:20260311T174342Z
LAST-MODIFIED:20260418T221752Z
UID:9458-1779471000-1779481800@bradgolden.com
SUMMARY:STACKER RINGS WORKSHOP
DESCRIPTION:EARLY BIRD SPECIAL FOR FIRST 6 SEATS: $125 [normally $175]\nLearn the essential jewelry-making skill of soldering while creating five handcrafted sterling silver stacker rings.\nDiscover the satisfaction of shaping silver with your own hands and joining metal with fire. \nIn this hands-on workshop\, you will learn how to measure\, form\, solder\, texture\, and finish sterling silver bands. Using a jeweler’s torch\, you will join metal with precision and transform simple silver wire into a set of beautiful stacker rings. \nYou’ll leave with five finished sterling silver rings you can wear the same day.\nStacker rings are designed to be worn together or individually\, allowing you to mix textures and finishes to create a look that is entirely your own. \nNo experience is necessary. Beginners are welcome. \n\nWHAT YOU WILL LEARN\n\nHow to measure and form a ring band\nHow to solder sterling silver with a jeweler’s torch\nHow heat\, flux\, and solder work together\nHow to create decorative surface textures\nHow to refine and finish rings for a comfortable fit\n\n\nDESIGN OPTIONS\nStudents will create five stacker rings and will be able to choose from several different textures and styles during the workshop. This allows you to create a stack that reflects your own personal style while learning multiple techniques! \n\nWHAT IS INCLUDED\nEverything you need is provided: \n\nSterling silver wire for five rings\nTexture tools and hammers\nTorches and soldering equipment\nSafety gear\nFiles\, abrasives\, and polishing tools\n\nYou will leave with five handcrafted sterling silver stacker rings and a solid foundation in basic silversmithing. \nPLEASE NOTE: The rings shown are representative examples of techniques taught in class. Projects may vary depending on materials availability and student preferences. \nExperience Level: Beginner \nSplit your registration into 4 interest-free payments!\nTIP: Would you like to spread your registration fee over 4 interest-free payments? Select Afterpay or Klarna in Popular Payment Methods at Checkout and you’ll be able to split your class fee into 4 interest-free payments. Simple\, secure\, and stress-free.
URL:https://bradgolden.com/workshops/stacker-rings-workshop-3/
LOCATION:Brad Golden Art Academy\, 4475 Traffic Way\, Atascadero\, CA\, 934=22\, United States
CATEGORIES:NEWLY ADDED!,Stacker Rings
ATTACH;FMTTYPE=image/webp:https://bradgolden.com/wp-content/uploads/2026/03/Stacker-Featured-Image5.webp
ORGANIZER;CN="Brad Golden":MAILTO:brad@bradgolden.com
END:VEVENT
BEGIN:VEVENT
DTSTART;TZID=America/Los_Angeles:20260523T123000
DTEND;TZID=America/Los_Angeles:20260523T153000
DTSTAMP:20260419T181600
CREATED:20260311T174556Z
LAST-MODIFIED:20260418T221643Z
UID:9461-1779539400-1779550200@bradgolden.com
SUMMARY:SILVER SAND CASTING
DESCRIPTION:INCLUDES $60 OF SILVER\nCreate Stunning Silver Jewelry with Fire\, Sand\, and Imagination\nWork with molten metal and create a ring you will wear for years. \nStep into the fascinating world of metal casting and experience the moment solid silver becomes liquid and then becomes jewelry. \nIn this hands-on workshop\, you will learn how to prepare a Delft clay mold\, melt sterling silver with a torch\, and pour it into your casting form. After cooling\, you will cut\, refine\, and smooth your casting\, transforming raw metal into a finished\, wearable ring. \nThis process has been used for centuries and remains one of the most direct and exciting ways to create jewelry. \nNo experience is necessary. Beginners are welcome. \nWHAT YOU WILL LEARN\n\nhow to pack and prepare a casting mold\nhow molten silver behaves and flows\nsafe melting and pouring techniques\nhow to remove and refine a casting\nsimple finishing methods for a clean\,\ncomfortable fit\n\nWHAT IS INCLUDED\nEverything you need is provided: \n\nsterling silver casting grain\nring band casting forms in multiple sizes\nDelft clay molds and casting materials\ntorch melting equipment\nsafety gear\nfiles\, abrasives\, and finishing tools\n\nYou will leave with a handcrafted sterling silver ring and a deeper understanding of how metal becomes jewelry. \nSplit your registration into 4 interest-free payments!\nTIP: Would you like to spread your registration fee over 4 interest-free payments? Select Afterpay or Klarna in Popular Payment Methods at Checkout and you’ll be able to split your class fee into 4 interest-free payments. Simple\, secure\, and stress-free.
URL:https://bradgolden.com/workshops/silver-sand-casting-2/
LOCATION:Brad Golden Art Academy\, 4475 Traffic Way\, Atascadero\, CA\, 934=22\, United States
CATEGORIES:Silver Sandcasting
ATTACH;FMTTYPE=image/webp:https://bradgolden.com/wp-content/uploads/2026/03/Sand-Casting-Woman-with-Torch.webp
ORGANIZER;CN="Brad Golden":MAILTO:brad@bradgolden.com
END:VEVENT
BEGIN:VEVENT
DTSTART;TZID=America/Los_Angeles:20260531T123000
DTEND;TZID=America/Los_Angeles:20260531T153000
DTSTAMP:20260419T181600
CREATED:20260311T174808Z
LAST-MODIFIED:20260418T221532Z
UID:9464-1780230600-1780241400@bradgolden.com
SUMMARY:SILVER ALCHEMY:JEWELRY FROM PRECIOUS METAL CLAY
DESCRIPTION:INCLUDES $60 IN SILVER CLAY\nIn this hands-on beginner workshop\, you’ll learn how to create your own custom jewelry using real silver—no experience required. \nWe’ll begin by exploring this fascinating medium as you mold and shape your own unique jewelry design. After initial shaping\, the class will take a short break while your piece dries in a small oven. Then\, you’ll learn how to torch-fire your piece\, transforming the clay into solid silver right before your eyes! In the final stage\, you’ll sand\, file\, and polish your piece to a brilliant shine—ready to wear and enjoy. \nAll tools\, materials\, colored CZ stones\, Silver Clay and safety equipment are provided. If you make a pendant\, necklace chains will be available for purchase at the end of class for $20 (or feel free to bring your own). Black waxed cotton cord for necklaces and earring hooks will also be provided. \nWhat You’ll Learn \nDiscover how easy—and fun—it is to turn silver clay into real fine silver jewelry. You’ll learn how to: \n\nShape and texture your own silver jewelry\nTorch-fire your piece to transform it into solid silver\nSand\, file\, and polish it to a professional finish\nPick up tips and tricks to keep creating at home\n\nSplit your registration into 4 interest-free payments!\nTIP: Would you like to spread your registration fee over 4 interest-free payments? Select Afterpay or Klarna in Popular Payment Methods at Checkout and you’ll be able to split your class fee into 4 interest-free payments. Simple\, secure\, and stress-free.
URL:https://bradgolden.com/workshops/silver-alchemyjewelry-from-precious-metal-clay-2/
LOCATION:Brad Golden Art Academy\, 4475 Traffic Way\, Atascadero\, CA\, 934=22\, United States
CATEGORIES:Silver Clay Jewelry
ATTACH;FMTTYPE=image/webp:https://bradgolden.com/wp-content/uploads/2026/02/Silver-Clay-copy.webp
ORGANIZER;CN="Brad Golden":MAILTO:brad@bradgolden.com
END:VEVENT
BEGIN:VEVENT
DTSTART;TZID=America/Los_Angeles:20260607T123000
DTEND;TZID=America/Los_Angeles:20260607T153000
DTSTAMP:20260419T181600
CREATED:20260311T175003Z
LAST-MODIFIED:20260418T221138Z
UID:9467-1780835400-1780846200@bradgolden.com
SUMMARY:SILVER SOLDERING AND BEZEL RING
DESCRIPTION:EARLY BIRD SPECIAL FOR FIRST 6 SEATS: $125 [normally $175]\nBezel-Set Ring Workshop: Soldering & Stone Setting Fundamentals \nIn this hands-on workshop\, you’ll learn the essential techniques of silversmithing by creating a sterling silver ring. This design allows us to focus on core soldering skills. \n \nThis class is ideal for beginners or anyone looking to strengthen their soldering and bezel-setting fundamentals in a supportive\, studio environment. Each student will leave with a finished sterling silver ring and the skills to apply these techniques to future designs. \nNo prior metalsmithing experience required. \nSplit your registration into 4 interest-free payments!\nTIP: Would you like to spread your registration fee over 4 interest-free payments? Select Afterpay or Klarna in Popular Payment Methods at Checkout and you’ll be able to split your class fee into 4 interest-free payments. Simple\, secure\, and stress-free.
URL:https://bradgolden.com/workshops/silver-soldering-and-bezel-ring-3/
LOCATION:Brad Golden Art Academy\, 4475 Traffic Way\, Atascadero\, CA\, 934=22\, United States
CATEGORIES:Silver Soldering
ATTACH;FMTTYPE=image/webp:https://bradgolden.com/wp-content/uploads/2026/03/Cubic-Zirconia-Ring.webp
ORGANIZER;CN="Brad Golden":MAILTO:brad@bradgolden.com
END:VEVENT
BEGIN:VEVENT
DTSTART;TZID=America/Los_Angeles:20260614T123000
DTEND;TZID=America/Los_Angeles:20260614T153000
DTSTAMP:20260419T181600
CREATED:20260311T175402Z
LAST-MODIFIED:20260418T221101Z
UID:9473-1781440200-1781451000@bradgolden.com
SUMMARY:STACKER RINGS WORKSHOP
DESCRIPTION:EARLY BIRD SPECIAL FOR FIRST 6 SEATS: $125 [normally $175]\nLearn the essential jewelry-making skill of soldering while creating five handcrafted sterling silver stacker rings.\nDiscover the satisfaction of shaping silver with your own hands and joining metal with fire. \nIn this hands-on workshop\, you will learn how to measure\, form\, solder\, texture\, and finish sterling silver bands. Using a jeweler’s torch\, you will join metal with precision and transform simple silver wire into a set of beautiful stacker rings. \nYou’ll leave with five finished sterling silver rings you can wear the same day.\nStacker rings are designed to be worn together or individually\, allowing you to mix textures and finishes to create a look that is entirely your own. \nNo experience is necessary. Beginners are welcome. \n\nWHAT YOU WILL LEARN\n\nHow to measure and form a ring band\nHow to solder sterling silver with a jeweler’s torch\nHow heat\, flux\, and solder work together\nHow to create decorative surface textures\nHow to refine and finish rings for a comfortable fit\n\n\nDESIGN OPTIONS\nStudents will create five stacker rings and will be able to choose from several different textures and styles during the workshop. This allows you to create a stack that reflects your own personal style while learning multiple techniques! \n\nWHAT IS INCLUDED\nEverything you need is provided: \n\nSterling silver wire for five rings\nTexture tools and hammers\nTorches and soldering equipment\nSafety gear\nFiles\, abrasives\, and polishing tools\n\nYou will leave with five handcrafted sterling silver stacker rings and a solid foundation in basic silversmithing. \nPLEASE NOTE: The rings shown are representative examples of techniques taught in class. Projects may vary depending on materials availability and student preferences. \nExperience Level: Beginner \nSplit your registration into 4 interest-free payments!\nTIP: Would you like to spread your registration fee over 4 interest-free payments? Select Afterpay or Klarna in Popular Payment Methods at Checkout and you’ll be able to split your class fee into 4 interest-free payments. Simple\, secure\, and stress-free.
URL:https://bradgolden.com/workshops/stacker-rings-workshop-4/
LOCATION:Brad Golden Art Academy\, 4475 Traffic Way\, Atascadero\, CA\, 934=22\, United States
CATEGORIES:NEWLY ADDED!,Stacker Rings
ATTACH;FMTTYPE=image/webp:https://bradgolden.com/wp-content/uploads/2026/03/Stacker-Featured-Image5.webp
ORGANIZER;CN="Brad Golden":MAILTO:brad@bradgolden.com
END:VEVENT
BEGIN:VEVENT
DTSTART;TZID=America/Los_Angeles:20260619T173000
DTEND;TZID=America/Los_Angeles:20260619T203000
DTSTAMP:20260419T181600
CREATED:20260311T175558Z
LAST-MODIFIED:20260418T221022Z
UID:9476-1781890200-1781901000@bradgolden.com
SUMMARY:THE MAGIC OF JEWELRY ENAMELING
DESCRIPTION:EARLY BIRD SPECIAL FOR FIRST 6 SEATS: $125 [normally $175]\nCreate your own colorful enamel jewelry!\nIn this 3-hour beginner-friendly workshop\, you’ll learn how to create a finished pendants and earrings ready to wear when you leave! \n✔ No experience required✔ All materials included✔ Small group instruction \n📍 Studios on the Park — Paso Robles⏱ 3 hours \nReserve your seat now — workshops often sell out!\nEnameling is a fun\, approachable way to add bold color and glass-like shine to metal jewelry — and in this hands-on class\, you’ll get to experience the magic of it for yourself! You’ll learn how powdered enamel transforms into a smooth\, vibrant surface right before your eyes! \nThis workshop is designed for curious beginners as well as makers who want to expand their creative toolbox. No prior enamel or jewelry-making experience is required — just a willingness to experiment\, play\, and learn something new in a relaxed\, supportive environment. \n\n\n\n\n\n\n\n\n\nWhat We’ll Do\nOver the course of the class\, you’ll: \n\nLearn what enamel is and how it works on metal\nApply enamel and watch it transform as it fires\nExplore color possibilities and surface effects\nCreate finished enamel jewelry components to take home\n\nYou’ll be working with quality metal\, enamel\, and tools — everything is provided. \n\nYour Experience\nThis workshop is about discovery\, creativity\, and building confidence. \nDuring our time together you will: \n\nBe guided step-by-step through the process\nGet individual help and encouragement\nEnjoy a welcoming studio atmosphere\nLeave with colorful enamel pieces you made yourself\n\nIf you’ve ever wanted to bring more life and personality into your jewelry\, this is a fantastic way to start!\nPLEASE NOTE: The earrings shown are representative examples of techniques taught in class. Projects may vary depending on materials availability and student preferences. \n\nREGISTER TODAY!\nSpace is limited to keep the experience personal and hands-on. Come try something new\, light up a torch\, and watch the magic happen! \nTIP: Would you like to spread your registration fee over 4 interest-free payments? Select Afterpay or Klarna in Popular Payment Methods at Checkout and you’ll be able to split your class fee into 4 interest-free payments. Simple\, secure\, and stress-free.
URL:https://bradgolden.com/workshops/the-magic-of-jewelry-enameling-3/
LOCATION:Brad Golden Art Academy\, 4475 Traffic Way\, Atascadero\, CA\, 934=22\, United States
CATEGORIES:ENAMELING,NEWLY ADDED!
ATTACH;FMTTYPE=image/webp:https://bradgolden.com/wp-content/uploads/2026/03/Enameling.webp
ORGANIZER;CN="Brad Golden":MAILTO:brad@bradgolden.com
END:VEVENT
BEGIN:VEVENT
DTSTART;TZID=America/Los_Angeles:20260621T123000
DTEND;TZID=America/Los_Angeles:20260621T153000
DTSTAMP:20260419T181600
CREATED:20260311T175845Z
LAST-MODIFIED:20260418T220925Z
UID:9479-1782045000-1782055800@bradgolden.com
SUMMARY:SILVER SAND CASTING
DESCRIPTION:EARLY BIRD SPECIAL FOR FIRST 6 SEATS: $125 [normally $175]\nCreate Stunning Silver Jewelry with Fire\, Sand\, and Imagination\nWork with molten metal and create a ring you will wear for years. \nStep into the fascinating world of metal casting and experience the moment solid silver becomes liquid and then becomes jewelry. \nIn this hands-on workshop\, you will learn how to prepare a Delft clay mold\, melt sterling silver with a torch\, and pour it into your casting form. After cooling\, you will cut\, refine\, and smooth your casting\, transforming raw metal into a finished\, wearable ring. \nThis process has been used for centuries and remains one of the most direct and exciting ways to create jewelry. \nNo experience is necessary. Beginners are welcome. \nWHAT YOU WILL LEARN\n\nhow to pack and prepare a casting mold\nhow molten silver behaves and flows\nsafe melting and pouring techniques\nhow to remove and refine a casting\nsimple finishing methods for a clean\,\ncomfortable fit\n\nWHAT IS INCLUDED\nEverything you need is provided: \n\nsterling silver casting grain\nring band casting forms in multiple sizes\nDelft clay molds and casting materials\ntorch melting equipment\nsafety gear\nfiles\, abrasives\, and finishing tools\n\nYou will leave with a handcrafted sterling silver ring and a deeper understanding of how metal becomes jewelry. \nSplit your registration into 4 interest-free payments!\nTIP: Would you like to spread your registration fee over 4 interest-free payments? Select Afterpay or Klarna in Popular Payment Methods at Checkout and you’ll be able to split your class fee into 4 interest-free payments. Simple\, secure\, and stress-free.
URL:https://bradgolden.com/workshops/silver-sand-casting-3/
LOCATION:Brad Golden Art Academy\, 4475 Traffic Way\, Atascadero\, CA\, 934=22\, United States
CATEGORIES:Silver Sandcasting
ATTACH;FMTTYPE=image/webp:https://bradgolden.com/wp-content/uploads/2026/03/Sand-Casting-Woman-with-Torch.webp
ORGANIZER;CN="Brad Golden":MAILTO:brad@bradgolden.com
END:VEVENT
BEGIN:VEVENT
DTSTART;TZID=America/Los_Angeles:20260626T170000
DTEND;TZID=America/Los_Angeles:20260628T210000
DTSTAMP:20260419T181600
CREATED:20260211T010656Z
LAST-MODIFIED:20260413T161925Z
UID:8752-1782493200-1782680400@bradgolden.com
SUMMARY:3D PRINTING & LOST-WAX CASTING FOR JEWELRY
DESCRIPTION:A rare Central Coast creative getaway hosted by artist Brad Golden.\nExperience the full magic of lost-wax casting through a modern\, professional workflow using 3D printed jewelry originals. In this immersive three-day workshop\, you’ll learn how digitally created designs are transformed into solid metal jewelry through one of the most powerful and time-honored processes in metalsmithing—reaching back 6\,000 years. \nWorking in a small group\, you’ll prepare a cast-ready 3D printed model\, sprue and invest your piece\, and take part in a live metal pour at the instructor’s workshop. On the final day\, you’ll cut\, file\, sand\, and polish your casting into a finished piece of jewelry you can wear home. \nThis class emphasizes process\, understanding\, and hands-on experience. All designs are pre-tested and 3D printed in advance to ensure successful castings and allow you to focus on learning the complete workflow from start to finish. \nNo prior jewelry\, casting\, or 3D modeling experience is required. \n\nWhat You’ll Make\nEach student will cast one finished jewelry piece (ring or pendant) using the lost-wax casting process.You’ll also receive a second identical 3D printed master to take home for future casting. \n\nWhat You’ll Learn\n\nHow 3D printed models replace traditional hand-carved wax in modern casting\nWhat makes a design suitable for lost-wax casting\nSpruing techniques and metal flow fundamentals\nInvestment mixing and mold preparation\nBurnout and casting temperature theory\nParticipating in a live group metal pour\nCutting\, filing\, sanding\, and polishing cast jewelry\n\n\nDesign Selection & Materials\nTo ensure a smooth and successful workshop experience\, students will choose from a curated selection of instructor-approved jewelry designs. All designs are 3D printed in advance and sized to fit within the materials included in the workshop fee. \nIf you select a ring design\, you’ll be asked to provide your ring size in advance of the class. \nAll materials are provided\, including professional tools\, casting supplies\, and sterling silver appropriate for the selected design. Tools remain in the studio for class use. \n\nSchedule & Locations\n\nFriday\, June 26\, (5–9 PM): Instructor’s workshop/Atascadero — orientation\, 3D printing discussion\, and spruing\nSaturday\, June 27\, (10–2 PM): Instructor’s workshop/Atascadero — live casting day\nSunday\, June 28\, (10–2 PM): Instructor’s workshop/Atascadero — finishing and polishing\n\n\nTuition: $495\nAll materials included. \nSplit your registration into 4 interest-free payments!\nTIP: Would you like to spread your registration fee over 4 interest-free payments? Select Afterpay or Klarna in Popular Payment Methods at Checkout and you’ll be able to split your class fee into 4 interest-free payments. Simple\, secure\, and stress-free. \n\nSkill Level\nBeginner-friendly. No prior experience required — just curiosity and a willingness to learn.
URL:https://bradgolden.com/workshops/3d-printing-lost-wax-casting-for-jewelry/
LOCATION:CA
CATEGORIES:Lost Wax Casting,NEWLY ADDED!
ATTACH;FMTTYPE=image/webp:https://bradgolden.com/wp-content/uploads/2026/03/Lost-Wax-Casting.webp
END:VEVENT
END:VCALENDAR